BEGIN:VCALENDAR
VERSION:2.0
PRODID:-//Lathom South Parish Council//Meeting Calendar//EN
CALSCALE:GREGORIAN
METHOD:PUBLISH
BEGIN:VEVENT
UID:70846-20260513@lathomsouthparishcouncil.gov.uk
DTSTAMP:20260423T085652Z
DTSTART;VALUE=DATE:20260513
DTEND;VALUE=DATE:20260514
SUMMARY:Annual General Meeting 13 May 2026
DESCRIPTION:Full Council Meeting\nView details: https://lathomsouthparishcouncil.gov.uk/meetings/annual-general-meeting-13-may-2026/
URL:https://lathomsouthparishcouncil.gov.uk/meetings/annual-general-meeting-13-may-2026/
END:VEVENT
END:VCALENDAR
