BEGIN:VCALENDAR
VERSION:2.0
PRODID:-//Lathom South Parish Council//Meeting Calendar//EN
CALSCALE:GREGORIAN
METHOD:PUBLISH
BEGIN:VEVENT
UID:70845-20260513@lathomsouthparishcouncil.gov.uk
DTSTAMP:20260421T102907Z
DTSTART;VALUE=DATE:20260513
DTEND;VALUE=DATE:20260514
SUMMARY:Annual Parish Assembly 13th May 2026
DESCRIPTION:Annual Parish Meeting\nView details: https://lathomsouthparishcouncil.gov.uk/meetings/annual-parish-assembly-13th-may-2026/
URL:https://lathomsouthparishcouncil.gov.uk/meetings/annual-parish-assembly-13th-may-2026/
END:VEVENT
END:VCALENDAR
