BEGIN:VCALENDAR
VERSION:2.0
PRODID:-//Lathom South Parish Council//Meeting Calendar//EN
CALSCALE:GREGORIAN
METHOD:PUBLISH
BEGIN:VEVENT
UID:70844-20260408@lathomsouthparishcouncil.gov.uk
DTSTAMP:20260423T104758Z
DTSTART;VALUE=DATE:20260408
DTEND;VALUE=DATE:20260409
SUMMARY:Full Parish Meeting 8th April 2026
DESCRIPTION:Full Council Meeting\nView details: https://lathomsouthparishcouncil.gov.uk/meetings/full-parish-meeting-8th-april-2026/
URL:https://lathomsouthparishcouncil.gov.uk/meetings/full-parish-meeting-8th-april-2026/
END:VEVENT
END:VCALENDAR
