BEGIN:VCALENDAR
VERSION:2.0
PRODID:-//Lathom South Parish Council//Meeting Calendar//EN
CALSCALE:GREGORIAN
METHOD:PUBLISH
BEGIN:VEVENT
UID:70842-20260211@lathomsouthparishcouncil.gov.uk
DTSTAMP:20260423T104829Z
DTSTART;VALUE=DATE:20260211
DTEND;VALUE=DATE:20260212
SUMMARY:Full Parish Meeting 11th February 2026
DESCRIPTION:Full Council Meeting\nView details: https://lathomsouthparishcouncil.gov.uk/meetings/full-parish-meeting-11th-february-2026/
URL:https://lathomsouthparishcouncil.gov.uk/meetings/full-parish-meeting-11th-february-2026/
END:VEVENT
END:VCALENDAR
