BEGIN:VCALENDAR
VERSION:2.0
PRODID:-//Lathom South Parish Council//Meeting Calendar//EN
CALSCALE:GREGORIAN
METHOD:PUBLISH
BEGIN:VEVENT
UID:70841-20260114@lathomsouthparishcouncil.gov.uk
DTSTAMP:20260423T104758Z
DTSTART;VALUE=DATE:20260114
DTEND;VALUE=DATE:20260115
SUMMARY:Full Parish Meeting 14th January 2026
DESCRIPTION:Full Council Meeting\nView details: https://lathomsouthparishcouncil.gov.uk/meetings/full-parish-meeting-14th-january-2026/
URL:https://lathomsouthparishcouncil.gov.uk/meetings/full-parish-meeting-14th-january-2026/
END:VEVENT
END:VCALENDAR
