BEGIN:VCALENDAR
VERSION:2.0
PRODID:-//Lathom South Parish Council//Meeting Calendar//EN
CALSCALE:GREGORIAN
METHOD:PUBLISH
BEGIN:VEVENT
UID:70802-20251210@lathomsouthparishcouncil.gov.uk
DTSTAMP:20260423T122438Z
DTSTART;VALUE=DATE:20251210
DTEND;VALUE=DATE:20251211
SUMMARY:Full Parish Meeting 10th December 2025
DESCRIPTION:Full Council Meeting\nView details: https://lathomsouthparishcouncil.gov.uk/meetings/full-parish-meeting-10th-december-2025/
URL:https://lathomsouthparishcouncil.gov.uk/meetings/full-parish-meeting-10th-december-2025/
END:VEVENT
END:VCALENDAR
