BEGIN:VCALENDAR
VERSION:2.0
PRODID:-//Lathom South Parish Council//Meeting Calendar//EN
CALSCALE:GREGORIAN
METHOD:PUBLISH
BEGIN:VEVENT
UID:70800-20251008@lathomsouthparishcouncil.gov.uk
DTSTAMP:20260423T122536Z
DTSTART;VALUE=DATE:20251008
DTEND;VALUE=DATE:20251009
SUMMARY:Full Parish Meeting 8th October 2025
DESCRIPTION:Full Council Meeting\nView details: https://lathomsouthparishcouncil.gov.uk/meetings/full-parish-meeting-8th-october-2025/
URL:https://lathomsouthparishcouncil.gov.uk/meetings/full-parish-meeting-8th-october-2025/
END:VEVENT
END:VCALENDAR
