BEGIN:VCALENDAR
VERSION:2.0
PRODID:-//Lathom South Parish Council//Meeting Calendar//EN
CALSCALE:GREGORIAN
METHOD:PUBLISH
BEGIN:VEVENT
UID:70799-20250903@lathomsouthparishcouncil.gov.uk
DTSTAMP:20260423T122945Z
DTSTART;VALUE=DATE:20250903
DTEND;VALUE=DATE:20250904
SUMMARY:Full Parish Meeting 3rd September 2025
DESCRIPTION:Full Council Meeting\nView details: https://lathomsouthparishcouncil.gov.uk/meetings/full-parish-meeting-3rd-september-2025/
URL:https://lathomsouthparishcouncil.gov.uk/meetings/full-parish-meeting-3rd-september-2025/
END:VEVENT
END:VCALENDAR
