BEGIN:VCALENDAR
VERSION:2.0
PRODID:-//Lathom South Parish Council//Meeting Calendar//EN
CALSCALE:GREGORIAN
METHOD:PUBLISH
BEGIN:VEVENT
UID:70798-20250716@lathomsouthparishcouncil.gov.uk
DTSTAMP:20260423T144319Z
DTSTART;VALUE=DATE:20250716
DTEND;VALUE=DATE:20250717
SUMMARY:Full Parish Meeting 16th July 2025
DESCRIPTION:Full Council Meeting\nView details: https://lathomsouthparishcouncil.gov.uk/meetings/full-parish-meeting-16th-july-2025/
URL:https://lathomsouthparishcouncil.gov.uk/meetings/full-parish-meeting-16th-july-2025/
END:VEVENT
END:VCALENDAR
