BEGIN:VCALENDAR
VERSION:2.0
PRODID:-//Lathom South Parish Council//Meeting Calendar//EN
CALSCALE:GREGORIAN
METHOD:PUBLISH
BEGIN:VEVENT
UID:70658-20250514@lathomsouthparishcouncil.gov.uk
DTSTAMP:20260421T121000Z
DTSTART;VALUE=DATE:20250514
DTEND;VALUE=DATE:20250515
SUMMARY:Annual Parish Assembly 14th May 2025
DESCRIPTION:Annual Parish Meeting\nView details: https://lathomsouthparishcouncil.gov.uk/meetings/annual-parish-assembly-14th-may-2025/
URL:https://lathomsouthparishcouncil.gov.uk/meetings/annual-parish-assembly-14th-may-2025/
END:VEVENT
END:VCALENDAR
