BEGIN:VCALENDAR
VERSION:2.0
PRODID:-//Lathom South Parish Council//Meeting Calendar//EN
CALSCALE:GREGORIAN
METHOD:PUBLISH
BEGIN:VEVENT
UID:70652-20250115@lathomsouthparishcouncil.gov.uk
DTSTAMP:20260423T162055Z
DTSTART;VALUE=DATE:20250115
DTEND;VALUE=DATE:20250116
SUMMARY:Full Parish Council Meeting 15th Jan 2025
DESCRIPTION:Full Council Meeting\nView details: https://lathomsouthparishcouncil.gov.uk/meetings/full-parish-council-meeting-15th-jan-2025/
URL:https://lathomsouthparishcouncil.gov.uk/meetings/full-parish-council-meeting-15th-jan-2025/
END:VEVENT
END:VCALENDAR
