BEGIN:VCALENDAR
VERSION:2.0
PRODID:-//Lathom South Parish Council//Meeting Calendar//EN
CALSCALE:GREGORIAN
METHOD:PUBLISH
BEGIN:VEVENT
UID:70651-20241211@lathomsouthparishcouncil.gov.uk
DTSTAMP:20260423T174025Z
DTSTART;VALUE=DATE:20241211
DTEND;VALUE=DATE:20241212
SUMMARY:Full Parish Council Meeting 11th Dec 2024
DESCRIPTION:Full Council Meeting\nView details: https://lathomsouthparishcouncil.gov.uk/meetings/full-parish-council-meeting-11th-dec-2024/
URL:https://lathomsouthparishcouncil.gov.uk/meetings/full-parish-council-meeting-11th-dec-2024/
END:VEVENT
END:VCALENDAR
