BEGIN:VCALENDAR
VERSION:2.0
PRODID:-//Lathom South Parish Council//Meeting Calendar//EN
CALSCALE:GREGORIAN
METHOD:PUBLISH
BEGIN:VEVENT
UID:70642-20241113@lathomsouthparishcouncil.gov.uk
DTSTAMP:20260423T174307Z
DTSTART;VALUE=DATE:20241113
DTEND;VALUE=DATE:20241114
SUMMARY:Full Parish Council meeting 13th November 2024
DESCRIPTION:Full Council Meeting\nView details: https://lathomsouthparishcouncil.gov.uk/meetings/parish-council-meeting-13th-november-2024/
URL:https://lathomsouthparishcouncil.gov.uk/meetings/parish-council-meeting-13th-november-2024/
END:VEVENT
END:VCALENDAR
