BEGIN:VCALENDAR
VERSION:2.0
PRODID:-//Lathom South Parish Council//Meeting Calendar//EN
CALSCALE:GREGORIAN
METHOD:PUBLISH
BEGIN:VEVENT
UID:70625-20241009@lathomsouthparishcouncil.gov.uk
DTSTAMP:20260423T174135Z
DTSTART;VALUE=DATE:20241009
DTEND;VALUE=DATE:20241010
SUMMARY:Full Parish Council meeting 9th October 2024
DESCRIPTION:Full Council Meeting\nView details: https://lathomsouthparishcouncil.gov.uk/meetings/meeting-name-here/
URL:https://lathomsouthparishcouncil.gov.uk/meetings/meeting-name-here/
END:VEVENT
END:VCALENDAR
