BEGIN:VCALENDAR
VERSION:2.0
PRODID:-//Lathom South Parish Council//Meeting Calendar//EN
CALSCALE:GREGORIAN
METHOD:PUBLISH
BEGIN:VEVENT
UID:70494-20240515@lathomsouthparishcouncil.gov.uk
DTSTAMP:20260421T132925Z
DTSTART;VALUE=DATE:20240515
DTEND;VALUE=DATE:20240516
SUMMARY:Annual Parish Council Meeting &#8211\\; 15th May 2024
DESCRIPTION:Annual Parish Meeting\nView details: https://lathomsouthparishcouncil.gov.uk/meetings/annual-parish-council-meeting-15th-may-2024/
URL:https://lathomsouthparishcouncil.gov.uk/meetings/annual-parish-council-meeting-15th-may-2024/
END:VEVENT
END:VCALENDAR
