BEGIN:VCALENDAR
VERSION:2.0
PRODID:-//Lathom South Parish Council//Meeting Calendar//EN
CALSCALE:GREGORIAN
METHOD:PUBLISH
BEGIN:VEVENT
UID:70491-20240410@lathomsouthparishcouncil.gov.uk
DTSTAMP:20260423T155026Z
DTSTART;VALUE=DATE:20240410
DTEND;VALUE=DATE:20240411
SUMMARY:Full Parish Council Meeting &#8211\\; 10th April 2024
DESCRIPTION:Full Council Meeting\nView details: https://lathomsouthparishcouncil.gov.uk/meetings/full-parish-council-meeting-10th-april-2024/
URL:https://lathomsouthparishcouncil.gov.uk/meetings/full-parish-council-meeting-10th-april-2024/
END:VEVENT
END:VCALENDAR
