BEGIN:VCALENDAR
VERSION:2.0
PRODID:-//Lathom South Parish Council//Meeting Calendar//EN
CALSCALE:GREGORIAN
METHOD:PUBLISH
BEGIN:VEVENT
UID:70488-20240214@lathomsouthparishcouncil.gov.uk
DTSTAMP:20260423T141337Z
DTSTART;VALUE=DATE:20240214
DTEND;VALUE=DATE:20240215
SUMMARY:Full Parish Council Meeting &#8211\\; 14th February 2024
DESCRIPTION:Full Council Meeting\nView details: https://lathomsouthparishcouncil.gov.uk/meetings/full-parish-council-meeting-14th-february-2024/
URL:https://lathomsouthparishcouncil.gov.uk/meetings/full-parish-council-meeting-14th-february-2024/
END:VEVENT
END:VCALENDAR
