BEGIN:VCALENDAR
VERSION:2.0
PRODID:-//Lathom South Parish Council//Meeting Calendar//EN
CALSCALE:GREGORIAN
METHOD:PUBLISH
BEGIN:VEVENT
UID:70471-20240103@lathomsouthparishcouncil.gov.uk
DTSTAMP:20260423T141518Z
DTSTART;VALUE=DATE:20240103
DTEND;VALUE=DATE:20240104
SUMMARY:Full Parish Council Meeting &#8211\\; 3rd January 2024
DESCRIPTION:Full Council Meeting\nView details: https://lathomsouthparishcouncil.gov.uk/meetings/full-parish-council-meeting-3rd-january-2024/
URL:https://lathomsouthparishcouncil.gov.uk/meetings/full-parish-council-meeting-3rd-january-2024/
END:VEVENT
END:VCALENDAR
