BEGIN:VCALENDAR
VERSION:2.0
PRODID:-//Lathom South Parish Council//Meeting Calendar//EN
CALSCALE:GREGORIAN
METHOD:PUBLISH
BEGIN:VEVENT
UID:70470-20230510@lathomsouthparishcouncil.gov.uk
DTSTAMP:20260421T151950Z
DTSTART;VALUE=DATE:20230510
DTEND;VALUE=DATE:20230511
SUMMARY:Annual parish council meeting &#8211\\; May 2023
DESCRIPTION:Annual Parish Meeting\nView details: https://lathomsouthparishcouncil.gov.uk/meetings/annual-parish-council-meeting-may-2023/
URL:https://lathomsouthparishcouncil.gov.uk/meetings/annual-parish-council-meeting-may-2023/
END:VEVENT
END:VCALENDAR
