BEGIN:VCALENDAR
VERSION:2.0
PRODID:-//Lathom South Parish Council//Meeting Calendar//EN
CALSCALE:GREGORIAN
METHOD:PUBLISH
BEGIN:VEVENT
UID:70445-20231213@lathomsouthparishcouncil.gov.uk
DTSTAMP:20260423T141943Z
DTSTART;VALUE=DATE:20231213
DTEND;VALUE=DATE:20231214
SUMMARY:Full Parish Council Meeting &#8211\\; 2023
DESCRIPTION:Full Council Meeting\nView details: https://lathomsouthparishcouncil.gov.uk/meetings/full-parish-council-meeting-2023/
URL:https://lathomsouthparishcouncil.gov.uk/meetings/full-parish-council-meeting-2023/
END:VEVENT
END:VCALENDAR
