BEGIN:VCALENDAR
VERSION:2.0
PRODID:-//Lathom South Parish Council//Meeting Calendar//EN
CALSCALE:GREGORIAN
METHOD:PUBLISH
BEGIN:VEVENT
UID:70444-20220511@lathomsouthparishcouncil.gov.uk
DTSTAMP:20260421T170509Z
DTSTART;VALUE=DATE:20220511
DTEND;VALUE=DATE:20220512
SUMMARY:Annual Parish council Meeting &#8211\\; May 2022
DESCRIPTION:Annual Parish Meeting\nView details: https://lathomsouthparishcouncil.gov.uk/meetings/annual-parish-council-meeting-may-2022/
URL:https://lathomsouthparishcouncil.gov.uk/meetings/annual-parish-council-meeting-may-2022/
END:VEVENT
END:VCALENDAR
