BEGIN:VCALENDAR
VERSION:2.0
PRODID:-//Lathom South Parish Council//Meeting Calendar//EN
CALSCALE:GREGORIAN
METHOD:PUBLISH
BEGIN:VEVENT
UID:70424-20221214@lathomsouthparishcouncil.gov.uk
DTSTAMP:20260423T122536Z
DTSTART;VALUE=DATE:20221214
DTEND;VALUE=DATE:20221215
SUMMARY:Full Parish council meetings &#8211\\; 2022
DESCRIPTION:Full Council Meeting\nView details: https://lathomsouthparishcouncil.gov.uk/meetings/full-parish-council-meetings-2022/
URL:https://lathomsouthparishcouncil.gov.uk/meetings/full-parish-council-meetings-2022/
END:VEVENT
END:VCALENDAR
